BEGIN:VCALENDAR
VERSION:2.0
PRODID:-//Tukios.com/
BEGIN:VEVENT
UID:304aef69-2433-44b3-87f8-a466569b5969@www.njfuneralhome.net
DTSTAMP:20260424T013351Z
DTSTART:20260430T150000Z
DTEND:20260430T160000Z
SUMMARY:Mass
DESCRIPTION:
URL:https://www.njfuneralhome.net/obituaries/james-hindley
LOCATION:St. Francis of Assisi Church 136 Saxer Avenue  Springfield PA 
	19064
GEO:39.9294571;-75.3342761
END:VEVENT
END:VCALENDAR