BEGIN:VCALENDAR
VERSION:2.0
PRODID:-//Tukios.com/
BEGIN:VEVENT
UID:24ca9717-99cc-4a15-bdf1-e28084bc82ed@www.njfuneralhome.net
DTSTAMP:20260424T013217Z
DTSTART:20260430T133000Z
DTEND:20260430T150000Z
SUMMARY:Visitation
DESCRIPTION:
URL:https://www.njfuneralhome.net/obituaries/james-hindley
LOCATION:St. Francis of Assisi Church 136 Saxer Avenue  Springfield PA 
	19064
GEO:39.9294571;-75.3342761
END:VEVENT
END:VCALENDAR